BEGIN:VCALENDAR
VERSION:2.0
PRODID:-//ExecGolf - ECPv6.15.20//NONSGML v1.0//EN
CALSCALE:GREGORIAN
METHOD:PUBLISH
X-WR-CALNAME:ExecGolf
X-ORIGINAL-URL:https://execgolf.com
X-WR-CALDESC:Events for ExecGolf
REFRESH-INTERVAL;VALUE=DURATION:PT1H
X-Robots-Tag:noindex
X-PUBLISHED-TTL:PT1H
BEGIN:VTIMEZONE
TZID:America/Los_Angeles
BEGIN:DAYLIGHT
TZOFFSETFROM:-0800
TZOFFSETTO:-0700
TZNAME:PDT
DTSTART:20250309T100000
END:DAYLIGHT
BEGIN:STANDARD
TZOFFSETFROM:-0700
TZOFFSETTO:-0800
TZNAME:PST
DTSTART:20251102T090000
END:STANDARD
BEGIN:DAYLIGHT
TZOFFSETFROM:-0800
TZOFFSETTO:-0700
TZNAME:PDT
DTSTART:20260308T100000
END:DAYLIGHT
BEGIN:STANDARD
TZOFFSETFROM:-0700
TZOFFSETTO:-0800
TZNAME:PST
DTSTART:20261101T090000
END:STANDARD
BEGIN:DAYLIGHT
TZOFFSETFROM:-0800
TZOFFSETTO:-0700
TZNAME:PDT
DTSTART:20270314T100000
END:DAYLIGHT
BEGIN:STANDARD
TZOFFSETFROM:-0700
TZOFFSETTO:-0800
TZNAME:PST
DTSTART:20271107T090000
END:STANDARD
END:VTIMEZONE
BEGIN:VEVENT
DTSTART;TZID=America/Los_Angeles:20260420T083000
DTEND;TZID=America/Los_Angeles:20260420T143000
DTSTAMP:20260420T013323
CREATED:20260326T081548Z
LAST-MODIFIED:20260416T070206Z
UID:11886-1776673800-1776695400@execgolf.com
SUMMARY:Fleming Island Golf Club
DESCRIPTION:Fleming Island Golf Club offer players an award winning golf experience from the moment they arrive. Designed by local architect Bobby Weed\, Fleming Island’s stunning design features diverse backdrops of native wetlands\, dense timbers\, and waste areas. This 6700 yard\, 18-hole layout brings with it a par of 71. Players of all abilities will enjoy the stark contrast of both nines. The links-style front nine features creative undulations\, water and carefully-placed sand bunkers. The back nine has been carved out of standing timberland\, providing an atmosphere of solitude\, all within the context of a natural terrain. REGISTER HERE!
URL:https://execgolf.com/event/fleming-island-golf-club-2026/
LOCATION:Fleming Island Golf Club\, 2260 Town Center Boulevard\, Fleming Island\, FL\, 32003\, United States
ATTACH;FMTTYPE=image/png:https://execgolf.com/wp-content/uploads/2022/10/jax_hero_QueensHarbour.png
END:VEVENT
END:VCALENDAR