BEGIN:VCALENDAR
VERSION:2.0
PRODID:-//ExecGolf - ECPv6.15.20//NONSGML v1.0//EN
CALSCALE:GREGORIAN
METHOD:PUBLISH
X-WR-CALNAME:ExecGolf
X-ORIGINAL-URL:https://execgolf.com
X-WR-CALDESC:Events for ExecGolf
REFRESH-INTERVAL;VALUE=DURATION:PT1H
X-Robots-Tag:noindex
X-PUBLISHED-TTL:PT1H
BEGIN:VTIMEZONE
TZID:Europe/Moscow
BEGIN:STANDARD
TZOFFSETFROM:+0300
TZOFFSETTO:+0300
TZNAME:MSK
DTSTART:20220101T000000
END:STANDARD
END:VTIMEZONE
BEGIN:VEVENT
DTSTART;TZID=Europe/Moscow:20230501T083000
DTEND;TZID=Europe/Moscow:20230501T143000
DTSTAMP:20260419T175443
CREATED:20221122T183900Z
LAST-MODIFIED:20240502T214510Z
UID:6069-1682929800-1682951400@execgolf.com
SUMMARY:Slammer & Squire Golf Course
DESCRIPTION:The Slammer & Squire course officially opened to the public in May 1998 and has become a favorite Jacksonville Florida golf course. This 18-hole\, 6\,939-yard course was designed by architect Bobby Weed along with World Golf Hall of Fame Members\, Sam Snead (the “Slammer”) and Gene Sarazen\, (the “Squire”). The three men shared a desire to build a golf course that would preserve the area’s natural beauty and reward good shot making….and that’s just what they did. This well-groomed course showcases the pristine\, unspoiled wooded areas\, wetlands and natural beauty of the region. It is relatively wide open with several contoured greens and impressive views of the World Golf Hall of Fame. REGISTER HERE!
URL:https://execgolf.com/event/slammer-squire-golf-course/
LOCATION:Slammer & Squire\, 2 World Golf Place\, St. Augustine\, FL\, 32092\, United States
ATTACH;FMTTYPE=image/png:https://execgolf.com/wp-content/uploads/2022/11/tournament_hero_SlammerAndSquire.png
END:VEVENT
END:VCALENDAR