BEGIN:VCALENDAR
VERSION:2.0
PRODID:-//ExecGolf - ECPv6.15.20//NONSGML v1.0//EN
CALSCALE:GREGORIAN
METHOD:PUBLISH
X-WR-CALNAME:ExecGolf
X-ORIGINAL-URL:https://execgolf.com
X-WR-CALDESC:Events for ExecGolf
REFRESH-INTERVAL;VALUE=DURATION:PT1H
X-Robots-Tag:noindex
X-PUBLISHED-TTL:PT1H
BEGIN:VTIMEZONE
TZID:Europe/Moscow
BEGIN:STANDARD
TZOFFSETFROM:+0300
TZOFFSETTO:+0300
TZNAME:MSK
DTSTART:20220101T000000
END:STANDARD
END:VTIMEZONE
BEGIN:VEVENT
DTSTART;TZID=Europe/Moscow:20230403T083000
DTEND;TZID=Europe/Moscow:20230403T143000
DTSTAMP:20260419T225916
CREATED:20230214T211850Z
LAST-MODIFIED:20230309T191151Z
UID:7993-1680510600-1680532200@execgolf.com
SUMMARY:The Golf Club at North Hampton
DESCRIPTION:The Golf Club at North Hampton offers a traditional Scottish links-style course in Fernandina Beach\, Florida. Designed by Arnold Palmer\, the layout meanders through dramatic elevation changes of over 40 feet and ten spring-fed lakes lined with coquina boulders. Sprawled across rolling hills and wild grasses\, the golf course is sculpted from beautiful Florida woodlands\, offering a round that is as scenic as it is challenging. REGISTER HERE!
URL:https://execgolf.com/event/the-golf-club-at-north-hampton/
LOCATION:The Golf Club at North Hampton\, 22680 N. Hampton Club Way\, Fernandina Beach\, 32034
ATTACH;FMTTYPE=image/png:https://execgolf.com/wp-content/uploads/2022/10/jax_hero_NorthHampton.png
END:VEVENT
END:VCALENDAR